BEGIN:VCALENDAR
VERSION:2.0
PRODID:-//La Pagaille Recyclerie - ECPv6.15.17//NONSGML v1.0//EN
CALSCALE:GREGORIAN
METHOD:PUBLISH
X-ORIGINAL-URL:https://la-pagaille.org
X-WR-CALDESC:Évènements pour La Pagaille Recyclerie
REFRESH-INTERVAL;VALUE=DURATION:PT1H
X-Robots-Tag:noindex
X-PUBLISHED-TTL:PT1H
BEGIN:VTIMEZONE
TZID:Europe/Paris
BEGIN:DAYLIGHT
TZOFFSETFROM:+0100
TZOFFSETTO:+0200
TZNAME:CEST
DTSTART:20230326T010000
END:DAYLIGHT
BEGIN:STANDARD
TZOFFSETFROM:+0200
TZOFFSETTO:+0100
TZNAME:CET
DTSTART:20231029T010000
END:STANDARD
BEGIN:DAYLIGHT
TZOFFSETFROM:+0100
TZOFFSETTO:+0200
TZNAME:CEST
DTSTART:20240331T010000
END:DAYLIGHT
BEGIN:STANDARD
TZOFFSETFROM:+0200
TZOFFSETTO:+0100
TZNAME:CET
DTSTART:20241027T010000
END:STANDARD
BEGIN:DAYLIGHT
TZOFFSETFROM:+0100
TZOFFSETTO:+0200
TZNAME:CEST
DTSTART:20250330T010000
END:DAYLIGHT
BEGIN:STANDARD
TZOFFSETFROM:+0200
TZOFFSETTO:+0100
TZNAME:CET
DTSTART:20251026T010000
END:STANDARD
END:VTIMEZONE
BEGIN:VEVENT
DTSTART;TZID=Europe/Paris:20240621T163000
DTEND;TZID=Europe/Paris:20240621T190000
DTSTAMP:20260420T112536
CREATED:20240531T130022Z
LAST-MODIFIED:20240703T141328Z
UID:52467-1718987400-1718996400@la-pagaille.org
SUMMARY:FÊTE DE LA MUSIQUE
DESCRIPTION:La Pagaille organise une fête de la musique pour les petit·es en partenariat avec les Pep94 ! \nAu programme :  \n\n17h – Lectures musicales pour les maternelles et les tout·e petit·es\n16h30 – Accueil / goûter / diffusion d’un conte musical créé par les enfants de la médiation scolaire des Pep94\n18h – Chaise musicale pour les 6/11 ans\n18h30 – Blind test « Trouvez les paroles » tout public \nAteliers sur inscription* 17h -19h :\n*via mediation.scolaire@lespep94.org \nAtelier conte animé par Roxana (Maison du Conte de Chevilly)\nPour les 6/11 ans – 10 participant·es maximum\nAtelier Slam de poésie animée par la Fédération des Poètes\nPour les 12/16 ans – 15 participant·es maximum
URL:https://la-pagaille.org/evenement/fete-de-la-musique/
LOCATION:La Pagaille\, 15\, rue Ernest Renan\, Ivry sur Seine\, 94200\, France
ATTACH;FMTTYPE=image/png:https://la-pagaille.org/wp-content/uploads/2024/05/Banniere-site-internet-2.png
END:VEVENT
END:VCALENDAR